BEGIN:VCALENDAR
VERSION:2.0
PRODID:-//ChamberMaster//Event Calendar 2.0//EN
METHOD:PUBLISH
X-PUBLISHED-TTL:P3D
REFRESH-INTERVAL:P3D
CALSCALE:GREGORIAN
BEGIN:VEVENT
DTSTART:20221213T230000Z
DTEND:20221214T010000Z
X-MICROSOFT-CDO-ALLDAYEVENT:FALSE
SUMMARY:Flourish Christmas Open House
DESCRIPTION:Join us for Flourish Community Center for Teen Girls 3rd annual Christmas open house! Tour our new center\, enjoy free desserts & hot beverages\, crafts & shop our candles! We hope to see you there!
X-ALT-DESC;FMTTYPE=text/html:Join us for Flourish Community Center for Teen Girls 3rd annual Christmas open house! Tour our new center\, enjoy free desserts &amp\; hot beverages\, crafts &amp\; shop our candles! We hope to see you there!
LOCATION:8851 Rand Avenue\, Daphne\, AL 36526
UID:e.1304.26545
SEQUENCE:3
DTSTAMP:20260424T065348Z
URL:http://easternshorechamber-gzcms.preview.gochambermaster.com/events/details/flourish-christmas-open-house-26545
END:VEVENT

END:VCALENDAR
