BEGIN:VCALENDAR
VERSION:2.0
PRODID:-//ChamberMaster//Event Calendar 2.0//EN
METHOD:PUBLISH
X-PUBLISHED-TTL:P3D
REFRESH-INTERVAL:P3D
CALSCALE:GREGORIAN
BEGIN:VEVENT
DTSTART:20211205T180000Z
DTEND:20211205T220000Z
X-MICROSOFT-CDO-ALLDAYEVENT:FALSE
SUMMARY:First Sunday Outdoor Market at 5 Rivers
DESCRIPTION:Local artists\, crafters\, and makers gather around the Cypress Gift Shop. Wood Carving Demonstration by Steve Schuler. Its All Greek Food Truck. Delta Discovery Boat Tour: 1:30\, Tickets: blakelypark.com. Animal Ambassador Program at Delta Hall\, 2 p.m.
X-ALT-DESC;FMTTYPE=text/html:Local artists\, crafters\, and makers gather around the Cypress Gift Shop. Wood Carving Demonstration by Steve Schuler. Its All Greek Food Truck. Delta Discovery Boat Tour: 1:30\, Tickets: blakelypark.com. Animal Ambassador Program at Delta Hall\, 2 p.m.
LOCATION:5 Rivers Delta Resource Center 30586 Five Rivers Blvd. On the causeway across from Meaher State Park
UID:e.1304.22864
SEQUENCE:3
DTSTAMP:20260425T213931Z
URL:http://easternshorechamber-gzcms.preview.gochambermaster.com/events/details/first-sunday-outdoor-market-at-5-rivers-12-05-2021-22864
END:VEVENT

END:VCALENDAR
