BEGIN:VCALENDAR
VERSION:2.0
PRODID:-//ChamberMaster//Event Calendar 2.0//EN
METHOD:PUBLISH
X-PUBLISHED-TTL:P3D
REFRESH-INTERVAL:P3D
CALSCALE:GREGORIAN
BEGIN:VEVENT
DTSTART:20220419T230000Z
DTEND:20220420T020000Z
X-MICROSOFT-CDO-ALLDAYEVENT:FALSE
SUMMARY:Fairhope Taste of Rotary
DESCRIPTION:The Point Clear Rotary Club invites you to join us for the 20th Annual Taste of Rotary at the Fairhope Civic Center on April 19\, 2022. Doors open at 6 PM\; entertainment by Roman Street. Tickets - $75\; Wine Raffle Tickets - $10.
X-ALT-DESC;FMTTYPE=text/html:The Point Clear Rotary Club invites you to join us for the 20th Annual Taste of Rotary at the Fairhope Civic Center on April 19\, 2022. Doors open at 6 PM\; entertainment by Roman Street. Tickets - $75\; Wine Raffle Tickets - $10.
LOCATION:Fairhope Civic Center
UID:e.1304.23268
SEQUENCE:3
DTSTAMP:20260425T122756Z
URL:http://easternshorechamber-gzcms.preview.gochambermaster.com/events/details/fairhope-taste-of-rotary-23268
END:VEVENT

END:VCALENDAR
