BEGIN:VCALENDAR
VERSION:2.0
PRODID:-//ChamberMaster//Event Calendar 2.0//EN
METHOD:PUBLISH
X-PUBLISHED-TTL:P3D
REFRESH-INTERVAL:P3D
CALSCALE:GREGORIAN
BEGIN:VEVENT
DTSTART:20211204T000000Z
DTEND:20211204T020000Z
X-MICROSOFT-CDO-ALLDAYEVENT:FALSE
SUMMARY:Fairhope First Friday Art Walk- canceled
DESCRIPTION:Fairhope First Friday Art Walk is canceled this Friday due to the Fairhope Christmas Parade taking place in downtown Fairhope.
X-ALT-DESC;FMTTYPE=text/html:Fairhope First Friday Art Walk is canceled this Friday due to the Fairhope Christmas Parade taking place in downtown Fairhope.
LOCATION:Downtown Fairhope
UID:e.1304.1750
SEQUENCE:3
DTSTAMP:20260425T214024Z
URL:http://easternshorechamber-gzcms.preview.gochambermaster.com/events/details/fairhope-first-friday-art-walk-canceled-1750
END:VEVENT

END:VCALENDAR
