BEGIN:VCALENDAR
VERSION:2.0
PRODID:-//ChamberMaster//Event Calendar 2.0//EN
METHOD:PUBLISH
X-PUBLISHED-TTL:P3D
REFRESH-INTERVAL:P3D
CALSCALE:GREGORIAN
BEGIN:VEVENT
DTSTART:20240201T230000Z
DTEND:20240202T010000Z
X-MICROSOFT-CDO-ALLDAYEVENT:FALSE
SUMMARY:ESCC Annual Celebration-2024 at Blue Gill Restaurant
DESCRIPTION:The Annual Celebration is sponsored by BankPlus.\n\n\n\nTickets are $45 per person.\n\nPrice include 2 drink tickets and light hors d oeuvres.
X-ALT-DESC;FMTTYPE=text/html:<span style="font-size:14px\;"><strong>The Annual Celebration is sponsored by BankPlus.</strong></span><br />\n<br />\nTickets are $45 per person.<br />\nPrice include 2 drink tickets and light h<span style="font-size:12px\;"><span style="color: rgb(32\, 33\, 36)\; font-family: &quot\;Google Sans&quot\;\, Roboto\, arial\, sans-serif\;">ors d oeuvres.</span></span><br />\n<br />\n&nbsp\;
LOCATION:Blue Gill Restaurant 3775 Battleship Parkway Spanish Fort\, AL 36527
UID:e.1304.28560
SEQUENCE:3
DTSTAMP:20260420T212007Z
URL:http://easternshorechamber-gzcms.preview.gochambermaster.com/events/details/escc-annual-celebration-2024-at-blue-gill-restaurant-28560
END:VEVENT

END:VCALENDAR
