BEGIN:VCALENDAR
VERSION:2.0
PRODID:-//ChamberMaster//Event Calendar 2.0//EN
METHOD:PUBLISH
X-PUBLISHED-TTL:P3D
REFRESH-INTERVAL:P3D
CALSCALE:GREGORIAN
BEGIN:VEVENT
DTSTART:20221029T170000Z
DTEND:20221029T210000Z
X-MICROSOFT-CDO-ALLDAYEVENT:FALSE
SUMMARY:Electric Vehicle Showcase
DESCRIPTION:Come check out the Electric Vehicle Showcase at the Fairhope Civic Center from noon to 4:00 pm on Saturday\, October 29\, 2022.
X-ALT-DESC;FMTTYPE=text/html:Come check out the Electric Vehicle Showcase at the Fairhope Civic Center from noon to 4:00 pm on Saturday\, October 29\, 2022.
LOCATION:Fairhope Civic Center\, 161 N. Section Street\, Fairhope\, AL
UID:e.1304.26466
SEQUENCE:3
DTSTAMP:20260424T115954Z
URL:http://easternshorechamber-gzcms.preview.gochambermaster.com/events/details/electric-vehicle-showcase-26466
END:VEVENT

END:VCALENDAR
