BEGIN:VCALENDAR
VERSION:2.0
PRODID:-//ChamberMaster//Event Calendar 2.0//EN
METHOD:PUBLISH
X-PUBLISHED-TTL:P3D
REFRESH-INTERVAL:P3D
CALSCALE:GREGORIAN
BEGIN:VEVENT
DTSTART:20240313T123000Z
DTEND:20240313T143000Z
X-MICROSOFT-CDO-ALLDAYEVENT:FALSE
SUMMARY:Eggs N' Issues: Planes\, Trains & Automobiles
DESCRIPTION:Join us for Eggs N' Issues: Planes\, Trains & Automobiles\n\n\n\nGet an update on the new Mobile International Airport Terminal\, the coming of Amtrak\, speaker David Clark with Visit Mobile and hear from ALDOT on the Mobile River Bridge and Bayway. \n\n\n\nThank to our Sponsor\, Pen Air Federal Credit Union
X-ALT-DESC;FMTTYPE=text/html:<span style="font-size:16px\;"><span style="font-family:arial\;"><strong>Join us for Eggs N&#39\; Issues: Planes\, Trains &amp\; Automobiles</strong><br />\n<br />\n<span style="color: rgb(36\, 36\, 36)\;">Get an update on the new Mobile International Airport Terminal\, the coming of Amtrak\, speaker David Clark with Visit Mobile and hear from ALDOT on the Mobile River Bridge and Bayway.&nbsp\;<br />\n<br />\n<strong>Thank to our Sponsor\, Pen Air Federal Credit Union</strong></span></span></span>
LOCATION:Resurrection Church 2401 Main St\, Daphne\, AL 36526
UID:e.1304.30001
SEQUENCE:3
DTSTAMP:20260420T224436Z
URL:http://easternshorechamber-gzcms.preview.gochambermaster.com/events/details/eggs-n-issues-planes-trains-automobiles-30001
END:VEVENT

END:VCALENDAR
