BEGIN:VCALENDAR
VERSION:2.0
PRODID:-//ChamberMaster//Event Calendar 2.0//EN
METHOD:PUBLISH
X-PUBLISHED-TTL:P3D
REFRESH-INTERVAL:P3D
CALSCALE:GREGORIAN
BEGIN:VEVENT
DTSTART:20230315T123000Z
DTEND:20230315T140000Z
X-MICROSOFT-CDO-ALLDAYEVENT:FALSE
SUMMARY:Eggs & Issues- Kendall Mowdy with Baldwin Prep
DESCRIPTION:Eggs & Issues Presented by PennAir\n\nWednesday March 15\n\n7:30 a.m. - 9 a.m.\n\nResurrection Church\n\n2401 Main Street in Daphne\n\n\n\nSpeaker: Kendall Mowdy with the Baldwin County Board of Education\, regarding the new Career Tech School\, Baldwin Preparatory Academy.
X-ALT-DESC;FMTTYPE=text/html:Eggs &amp\; Issues Presented by PennAir<br />\nWednesday March 15<br />\n7:30 a.m. - 9 a.m.<br />\nResurrection Church<br />\n2401 Main Street in Daphne<br />\n<br />\nSpeaker:&nbsp\;<span style="color: rgb(5\, 5\, 5)\; font-family: &quot\;Segoe UI Historic&quot\;\, &quot\;Segoe UI&quot\;\, Helvetica\, Arial\, sans-serif\; font-size: 15px\;">Kendall Mowdy with the Baldwin County Board of Education\, regarding the new Career Tech School\, Baldwin Preparatory Academy.</span>
LOCATION:Resurrection Church 2401 Main Street in Daphne
UID:e.1304.27302
SEQUENCE:3
DTSTAMP:20260423T201027Z
URL:http://easternshorechamber-gzcms.preview.gochambermaster.com/events/details/eggs-issues-kendall-mowdy-with-baldwin-prep-27302
END:VEVENT

END:VCALENDAR
