BEGIN:VCALENDAR
VERSION:2.0
PRODID:-//ChamberMaster//Event Calendar 2.0//EN
METHOD:PUBLISH
X-PUBLISHED-TTL:P3D
REFRESH-INTERVAL:P3D
CALSCALE:GREGORIAN
BEGIN:VEVENT
DTSTART:20240604T210000Z
DTEND:20240604T220000Z
X-MICROSOFT-CDO-ALLDAYEVENT:FALSE
SUMMARY:Dementia Support Group
DESCRIPTION:Do you have a loved one experiencing cognitive decline? There are many types of memory loss. Some folks have dementia\, Lewy body\, frontal lobe\, or Alzheimer's to name a few. Family members and friends are welcome to attend and learn how others are dealing with this\, helpful suggestions\, resources and more.
X-ALT-DESC;FMTTYPE=text/html:Do you have a loved one experiencing cognitive decline? There are many types of memory loss. Some folks have dementia\, Lewy body\, frontal lobe\, or Alzheimer&#39\;s to name a few. Family members and friends are welcome to attend and learn how others are dealing with this\, helpful suggestions\, resources and more.
LOCATION:The Brennity at Daphne Senior Living Community 27440 County Rd. 13 Daphne
UID:e.1304.31371
SEQUENCE:3
DTSTAMP:20260420T020754Z
URL:http://easternshorechamber-gzcms.preview.gochambermaster.com/events/details/dementia-support-group-31371
END:VEVENT

END:VCALENDAR
