BEGIN:VCALENDAR
VERSION:2.0
PRODID:-//ChamberMaster//Event Calendar 2.0//EN
METHOD:PUBLISH
X-PUBLISHED-TTL:P3D
REFRESH-INTERVAL:P3D
CALSCALE:GREGORIAN
BEGIN:VEVENT
DTSTART:20230929T170000Z
DTEND:20230929T200000Z
X-MICROSOFT-CDO-ALLDAYEVENT:FALSE
SUMMARY:Davine Counseling Center Substance-Abuse Program Ribbon Cutting and Open House
DESCRIPTION:We are having a ribbon cutting and open house to celebrate our Substance-Abuse program one year mark.
X-ALT-DESC;FMTTYPE=text/html:We are having a ribbon cutting and open house to celebrate our Substance-Abuse program one year mark.
LOCATION:28851 N Main Street\, Daphne AL\, 36526
UID:e.1304.28079
SEQUENCE:3
DTSTAMP:20260422T014339Z
URL:http://easternshorechamber-gzcms.preview.gochambermaster.com/events/details/davine-counseling-center-substance-abuse-program-ribbon-cutting-and-open-house-09-29-2023-28079
END:VEVENT

END:VCALENDAR
