BEGIN:VCALENDAR
VERSION:2.0
PRODID:-//ChamberMaster//Event Calendar 2.0//EN
METHOD:PUBLISH
X-PUBLISHED-TTL:P3D
REFRESH-INTERVAL:P3D
CALSCALE:GREGORIAN
BEGIN:VEVENT
DTSTART:20211022T150000Z
DTEND:20211022T160000Z
X-MICROSOFT-CDO-ALLDAYEVENT:FALSE
SUMMARY:Community-Based Comprehensive Land Use Plan meeting
DESCRIPTION:Join us for neighborhood meetings so your voice can be heard!
X-ALT-DESC;FMTTYPE=text/html:Join us for neighborhood meetings so your voice can be heard!
LOCATION:Fairhope Civic Center\, Fairhope\, AL
UID:e.1304.22711
SEQUENCE:3
DTSTAMP:20260426T025917Z
URL:http://easternshorechamber-gzcms.preview.gochambermaster.com/events/details/community-based-comprehensive-land-use-plan-meeting-10-22-2021-22711
END:VEVENT

END:VCALENDAR
