BEGIN:VCALENDAR
VERSION:2.0
PRODID:-//ChamberMaster//Event Calendar 2.0//EN
METHOD:PUBLISH
X-PUBLISHED-TTL:P3D
REFRESH-INTERVAL:P3D
CALSCALE:GREGORIAN
BEGIN:VEVENT
DTSTART:20211214T010000Z
DTEND:20211214T023000Z
X-MICROSOFT-CDO-ALLDAYEVENT:FALSE
SUMMARY:Christmas Around the World Concert
DESCRIPTION:The Baldwin County Youth Orchestra presents Christmas Around the World. Concert sponsored in part by the City of Foley. No tickets required but a toy for Toys for Tots would be appreciated. Silent auction available during concert.
X-ALT-DESC;FMTTYPE=text/html:The Baldwin County Youth Orchestra presents Christmas Around the World. Concert sponsored in part by the City of Foley. No tickets required but a toy for Toys for Tots would be appreciated. Silent auction available during concert.
LOCATION:Foley Civic Center\, 407 E Laurel Ave\, Foley\, AL
UID:e.1304.22786
SEQUENCE:3
DTSTAMP:20260425T201823Z
URL:http://easternshorechamber-gzcms.preview.gochambermaster.com/events/details/christmas-around-the-world-concert-22786
END:VEVENT

END:VCALENDAR
