BEGIN:VCALENDAR
VERSION:2.0
PRODID:-//ChamberMaster//Event Calendar 2.0//EN
METHOD:PUBLISH
X-PUBLISHED-TTL:P3D
REFRESH-INTERVAL:P3D
CALSCALE:GREGORIAN
BEGIN:VEVENT
DTSTART:20230728T000000Z
DTEND:20230728T010000Z
X-MICROSOFT-CDO-ALLDAYEVENT:FALSE
SUMMARY:Cash Back — A Tribute to Johnny Cash & June Carter-Cash
DESCRIPTION:Join OWA Theater on July 27 at 7pm for an unforgettable live musical performance\, "Cash Back   A Tribute to Johnny Cash & June Carter-Cash." This extraordinary show pays homage to the legendary Johnny Cash and his beloved wife\, June Carter-Cash. Prepare to be captivated by an evening of timeless classics\, electrifying energy\, and heartfelt tributes that will transport you back in time to experience the essence of these unforgettable music icons.\n\nCash Back is a tribute band that has mastered the art of recreating the authentic sound\, spirit\, and soul of Johnny Cash and June Carter-Cash. Led by a talented ensemble of musicians\, this tribute group flawlessly captures the unique blend of country\, rockabilly\, and Americana that defined the legendary Johnny Cash's career. With their exceptional musical prowess and unwavering dedication to honoring the Cash legacy\, "Cash Back" delivers a performance that is as close to the real thing as you can get.\n\nThe OWA Theater provides the perfect setting for this spectacular musical journey. With its state-of-the-art sound system and intimate atmosphere\, the venue allows you to fully immerse yourself in the magic of the music. Prepare to be transported to a bygone era as you witness the timeless hits that made Johnny Cash an icon\, such as "Folsom Prison Blues\," "Ring of Fire\," and "I Walk the Line." Additionally\, the tribute performance shines a spotlight on the remarkable contributions of June Carter-Cash\, featuring her memorable songs and enchanting stage presence.\n\nPurchase your tickets today!
X-ALT-DESC;FMTTYPE=text/html:<span style="font-family:calibri\,sans-serif"><span style="font-size:11.0pt">Join OWA Theater on July 27 at 7pm for an unforgettable live musical performance\, &quot\;Cash Back &mdash\; A Tribute to Johnny Cash &amp\; June Carter-Cash.&quot\; This extraordinary show pays homage to the legendary Johnny Cash and his beloved wife\, June Carter-Cash. Prepare to be captivated by an evening of timeless classics\, electrifying energy\, and heartfelt tributes that will transport you back in time to experience the essence of these unforgettable music icons.</span></span><br />\n<span style="font-family:calibri\,sans-serif"><span style="font-size:11.0pt">Cash Back is a tribute band that has mastered the art of recreating the authentic sound\, spirit\, and soul of Johnny Cash and June Carter-Cash. Led by a talented ensemble of musicians\, this tribute group flawlessly captures the unique blend of country\, rockabilly\, and Americana that defined the legendary Johnny Cash&#39\;s career. With their exceptional musical prowess and unwavering dedication to honoring the Cash legacy\, &quot\;Cash Back&quot\; delivers a performance that is as close to the real thing as you can get.</span></span><br />\n<span style="font-family:calibri\,sans-serif"><span style="font-size:11.0pt">The OWA Theater provides the perfect setting for this spectacular musical journey. With its state-of-the-art sound system and intimate atmosphere\, the venue allows you to fully immerse yourself in the magic of the music. Prepare to be transported to a bygone era as you witness the timeless hits that made Johnny Cash an icon\, such as &quot\;Folsom Prison Blues\,&quot\; &quot\;Ring of Fire\,&quot\; and &quot\;I Walk the Line.&quot\; Additionally\, the tribute performance shines a spotlight on the remarkable contributions of June Carter-Cash\, featuring her memorable songs and enchanting stage presence.</span></span><br />\n<span style="font-family:calibri\,sans-serif"><span style="font-size:11.0pt">Purchase your tickets today!</span></span>
LOCATION:OWA Theater
UID:e.1304.27690
SEQUENCE:3
DTSTAMP:20260422T070324Z
URL:http://easternshorechamber-gzcms.preview.gochambermaster.com/events/details/cash-back-a-tribute-to-johnny-cash-june-carter-cash-27690
END:VEVENT

END:VCALENDAR
