BEGIN:VCALENDAR
VERSION:2.0
PRODID:-//ChamberMaster//Event Calendar 2.0//EN
METHOD:PUBLISH
X-PUBLISHED-TTL:P3D
REFRESH-INTERVAL:P3D
CALSCALE:GREGORIAN
BEGIN:VEVENT
DTSTART:20230722T200000Z
DTEND:20230723T020000Z
X-MICROSOFT-CDO-ALLDAYEVENT:FALSE
SUMMARY:Caribbean Day
DESCRIPTION:Caribbean Day at OWA is a vibrant and exciting event that celebrates the rich culture and flavors of the Caribbean. Taking place in Downtown\, the event offers a diverse range of activities and attractions for attendees of all ages. \n\n\n\nOn July 22 Downtown OWA comes to life with a myriad of Caribbean-inspired activities. Vendors from the arts and crafts community set up shop throughout Downtown\, offering an array of unique and handmade items for attendees to browse and purchase. The streets are transformed into an open-air gallery as registered artists participate in a captivating art competition\, creating Caribbean-themed street chalk artwork. With different age categories\, the competition showcases the talent and creativity of professionals\, youth\, and junior artists. \n\n\n\nAdding to the lively ambiance\, Caribbean-style stilt walkers captivate the crowd as they gracefully roam through the streets\, impressing guests with their colorful costumes and skillful performances. For those interested in exploring the rhythmic beats of the Caribbean\, a Drum Clinic is available. Participants can register for sessions led by an instructor\, where they can learn Afro-Cuban rhythms and experience the joy of playing drums. \n\n\n\nAs the day progresses\, the anticipation builds for the Art Competition Judging. A panel of expert judges evaluates the artworks to determine the winners in each age category\, based on their creativity\, technique\, and adherence to the Caribbean theme. The climax of the event takes place on OWA Island\, where the Art Competition Awards ceremony commences. Excitement fills the air as the winners are announced and rewarded with cash prizes. The amounts vary according to the category\, with the top contenders in each age group receiving recognition for their exceptional artistic talents. \n\n\n\nCaribbean Day at OWA promises a vibrant and engaging experience\, immersing attendees in the colors\, sounds\, and artistic expressions of the Caribbean. Whether you're browsing through the arts and crafts vendors\, witnessing the live creation of street art\, enjoying the captivating performances of stilt walkers\, or indulging in the rhythmic beats of the drum clinic\, this event offers something for everyone to enjoy and celebrate the spirit of the Caribbean. \n\n\n\n \n\n\nSchedule of events \n\n\n\n\nFriday\, July 21 \n\n\n\nEarly Vendor Check-In: \n\n\n\n\n	\n	Time: 4:00pm-6:00pm \n	\n	\n	Location: Flag Entrance \n	\n	\n	Description: Approved vendors can check in early to set up their booths. They will receive their booth number\, WiFi information\, and submit any required paperwork. \n	\n\n\n\n\n\n\nSaturday\, July 22 \n\n\n\nVendor Check-In: \n\n\n\n\n	\n	Time: 2:00pm-3:00pm \n	\n	\n	Location: Flag Entrance \n	\n	\n	Description: Vendors check in and set up their booths throughout Downtown. They will be assigned a booth number\, given WiFi information\, and submit any required paperwork. \n	\n\n\n\n\n\n\nArtist Check-In: \n\n\n\n\n	\n	Time: 3:00pm-4:00pm \n	\n	\n	Location: Flag Entrance \n	\n	\n	Description: Artists selected to participate in the art competition check in and are directed to their designated spaces in Downtown. They must submit any required paperwork at this time. \n	\n\n\n\n\nArt Competition: \n\n\n\n\n\n\n	\n	Time: 4:00pm-7:00pm \n	\n	\n	Location: Downtown \n	\n	\n	Description: Registered artists create Caribbean-themed street chalk artwork throughout Downtown. There are different age categories: Pro (18+ years old)\, Youth (10-17 years old)\, and Junior (4-9 years old). \n	\n\n\n\n\nArts & Crafts Vendors: \n\n\n\n\n	\n	Time: 4:00pm-9:00pm \n	\n\n\n\n\n\n\n\n	\n	Location: Downtown \n	\n	\n	Description: Various arts and crafts vendors set up their stalls throughout Downtown\, offering their creative products. \n	\n\n\n\n\nTBD Stilt Walkers: \n\n\n\n\n	\n	Time: 5:00pm-8:00pm \n	\n	\n	Location: Downtown \n	\n\n\n\n\n\n\n\n	\n	Description: Caribbean-style stilt walkers entertain attendees as they roam through Downtown. \n	\n\n\n\n\nTBD Drum Clinic: \n\n\n\n\n	\n	Time: 5:00pm-8:00pm \n	\n	\n	Location: Cinnabon/Rum Island nook \n	\n	\n	Description: Drum clinic registration begins at 5:00pm. Each 20-minute session can accommodate up to 12 registrants. Participants will learn Afro-Cuban rhythm from an instructor. \n	\n\n\n\n\n\n\nArts & Crafts Vendors: \n\n\n\n\n	\n	Time: 4:00pm-9:00pm \n	\n	\n	Location: Downtown \n	\n	\n	Description: Arts and crafts vendors continue to showcase and sell their products throughout Downtown. \n	\n\n\n\n\nArt Competition Judging: \n\n\n\n\n\n\n	\n	Time: 7:00pm-8:00pm \n	\n	\n	Location: Downtown \n	\n	\n	Description: A panel of judges evaluates the art competition entries to determine the 1st\, 2nd\, and 3rd place winners in each age category. \n	\n\n\n\n\nArt Competition Awards: \n\n\n\n\n	\n	Time: 8:00pm-until \n	\n\n\n\n\n\n\n\n	\n	Location: Island Stage \n	\n	\n	Description: The winners of the art competition are announced and awarded cash prizes. The prize amounts vary based on the age categories: Pro\, Youth\, and Junior. \n	\n\n\n\n\nArt Competition Prizes \n\n\n\nPro Category: \n\n\n\n\n	\n	1st Place: $500 cash \n	\n\n\n\n\n\n\n\n	\n	2nd Place: $400 cash \n	\n	\n	3rd Place: $300 cash \n	\n\n\n\n\nYouth Category: \n\n\n\n\n	\n	1st Place: $300 cash \n	\n	\n	2nd Place: $200 cash \n	\n\n\n\n\n\n\n\n	\n	3rd Place: $100 cash \n	\n\n\n\n\nJunior Category: \n\n\n\n\n	\n	1st Place: $100 cash \n	\n	\n	2nd Place: $75 cash \n	\n	\n	3rd Place: $50 cash
X-ALT-DESC;FMTTYPE=text/html:<div>\n<p><span style="font-family:calibri\,calibri_embeddedfont\,calibri_msfontservice\,sans-serif\; font-size:11pt">Caribbean Day at OWA is a vibrant and exciting event that celebrates the rich culture and flavors of the Caribbean. Taking place in Downtown\, the event offers a diverse range of activities and attractions for attendees of all ages.</span><span style="font-family:calibri\,calibri_embeddedfont\,calibri_msfontservice\,sans-serif\; font-size:11pt">&nbsp\;</span></p>\n</div>\n\n<div>\n<p><span style="font-family:calibri\,calibri_embeddedfont\,calibri_msfontservice\,sans-serif\; font-size:11pt">On July 22 Downtown OWA comes to life with a myriad of Caribbean-inspired activities. Vendors from the arts and crafts community set up shop throughout Downtown\, offering an array of unique and handmade items for attendees to browse and purchase. The streets are transformed into an open-air gallery as registered artists participate in a captivating art competition\, creating Caribbean-themed street chalk artwork. With different age categories\, the competition showcases the talent and creativity of professionals\, youth\, and junior artists.</span><span style="font-family:calibri\,calibri_embeddedfont\,calibri_msfontservice\,sans-serif\; font-size:11pt">&nbsp\;</span></p>\n</div>\n\n<div>\n<p><span style="font-family:calibri\,calibri_embeddedfont\,calibri_msfontservice\,sans-serif\; font-size:11pt">Adding to the lively ambiance\, Caribbean-style stilt walkers captivate the crowd as they gracefully roam through the streets\, impressing guests with their colorful costumes and skillful performances. For those interested in exploring the rhythmic beats of the Caribbean\, a Drum Clinic is available. Participants can register for sessions led by an instructor\, where they can learn Afro-Cuban rhythms and experience the joy of playing drums.</span><span style="font-family:calibri\,calibri_embeddedfont\,calibri_msfontservice\,sans-serif\; font-size:11pt">&nbsp\;</span></p>\n</div>\n\n<div>\n<p><span style="font-family:calibri\,calibri_embeddedfont\,calibri_msfontservice\,sans-serif\; font-size:11pt">As the day progresses\, the anticipation builds for the Art Competition Judging. A panel of expert judges evaluates the artworks to determine the winners in each age category\, based on their creativity\, technique\, and adherence to the Caribbean theme. The climax of the event takes place on OWA Island\, where the Art Competition Awards ceremony commences. Excitement fills the air as the winners are announced and rewarded with cash prizes. The amounts vary according to the category\, with the top contenders in each age group receiving recognition for their exceptional artistic talents.</span><span style="font-family:calibri\,calibri_embeddedfont\,calibri_msfontservice\,sans-serif\; font-size:11pt">&nbsp\;</span></p>\n</div>\n\n<div>\n<p><span style="font-family:calibri\,calibri_embeddedfont\,calibri_msfontservice\,sans-serif\; font-size:11pt">Caribbean Day at OWA promises a vibrant and engaging experience\, immersing attendees in the colors\, sounds\, and artistic expressions of the Caribbean. Whether you&#39\;re browsing through the arts and crafts vendors\, witnessing the live creation of street art\, enjoying the captivating performances of stilt walkers\, or indulging in the rhythmic beats of the drum clinic\, this event offers something for everyone to enjoy and celebrate the spirit of the Caribbean.</span><span style="font-family:calibri\,calibri_embeddedfont\,calibri_msfontservice\,sans-serif\; font-size:11pt">&nbsp\;</span><br />\n<br />\n&nbsp\;</p>\n\n<div>\n<p><strong>Schedule of events</strong><span style="font-family:calibri\,calibri_embeddedfont\,calibri_msfontservice\,sans-serif\; font-size:11pt">&nbsp\;</span></p>\n</div>\n\n<div>\n<div>\n<p><span style="font-family:calibri\,calibri_embeddedfont\,calibri_msfontservice\,sans-serif\; font-size:11pt">Friday\, July 21</span><span style="font-family:calibri\,calibri_embeddedfont\,calibri_msfontservice\,sans-serif\; font-size:11pt">&nbsp\;</span></p>\n</div>\n\n<div>\n<p><span style="font-family:calibri\,calibri_embeddedfont\,calibri_msfontservice\,sans-serif\; font-size:11pt">Early Vendor Check-In:</span><span style="font-family:calibri\,calibri_embeddedfont\,calibri_msfontservice\,sans-serif\; font-size:11pt">&nbsp\;</span></p>\n</div>\n\n<div>\n<ul>\n	<li>\n	<p><span style="font-family:calibri\,calibri_embeddedfont\,calibri_msfontservice\,sans-serif\; font-size:11pt">Time: 4:00pm-6:00pm</span><span style="font-family:calibri\,calibri_embeddedfont\,calibri_msfontservice\,sans-serif\; font-size:11pt">&nbsp\;</span></p>\n	</li>\n	<li>\n	<p><span style="font-family:calibri\,calibri_embeddedfont\,calibri_msfontservice\,sans-serif\; font-size:11pt">Location: Flag Entrance</span><span style="font-family:calibri\,calibri_embeddedfont\,calibri_msfontservice\,sans-serif\; font-size:11pt">&nbsp\;</span></p>\n	</li>\n	<li>\n	<p><span style="font-family:calibri\,calibri_embeddedfont\,calibri_msfontservice\,sans-serif\; font-size:11pt">Description: Approved vendors can check in early to set up their booths. They will receive their booth number\, WiFi information\, and submit any required paperwork.</span><span style="font-family:calibri\,calibri_embeddedfont\,calibri_msfontservice\,sans-serif\; font-size:11pt">&nbsp\;</span></p>\n	</li>\n</ul>\n</div>\n</div>\n\n<div>\n<div>\n<p><span style="font-family:calibri\,calibri_embeddedfont\,calibri_msfontservice\,sans-serif\; font-size:11pt">Saturday\, July 22</span><span style="font-family:calibri\,calibri_embeddedfont\,calibri_msfontservice\,sans-serif\; font-size:11pt">&nbsp\;</span></p>\n</div>\n\n<div>\n<p><span style="font-family:calibri\,calibri_embeddedfont\,calibri_msfontservice\,sans-serif\; font-size:11pt">Vendor Check-In:</span><span style="font-family:calibri\,calibri_embeddedfont\,calibri_msfontservice\,sans-serif\; font-size:11pt">&nbsp\;</span></p>\n</div>\n\n<div>\n<ul>\n	<li>\n	<p><span style="font-family:calibri\,calibri_embeddedfont\,calibri_msfontservice\,sans-serif\; font-size:11pt">Time: 2:00pm-3:00pm</span><span style="font-family:calibri\,calibri_embeddedfont\,calibri_msfontservice\,sans-serif\; font-size:11pt">&nbsp\;</span></p>\n	</li>\n	<li>\n	<p><span style="font-family:calibri\,calibri_embeddedfont\,calibri_msfontservice\,sans-serif\; font-size:11pt">Location: Flag Entrance</span><span style="font-family:calibri\,calibri_embeddedfont\,calibri_msfontservice\,sans-serif\; font-size:11pt">&nbsp\;</span></p>\n	</li>\n	<li>\n	<p><span style="font-family:calibri\,calibri_embeddedfont\,calibri_msfontservice\,sans-serif\; font-size:11pt">Description: Vendors check in and set up their booths throughout Downtown. They will be assigned a booth number\, given WiFi information\, and submit any required paperwork.</span><span style="font-family:calibri\,calibri_embeddedfont\,calibri_msfontservice\,sans-serif\; font-size:11pt">&nbsp\;</span></p>\n	</li>\n</ul>\n</div>\n</div>\n\n<div>\n<div>\n<p><span style="font-family:calibri\,calibri_embeddedfont\,calibri_msfontservice\,sans-serif\; font-size:11pt">Artist Check-In:</span><span style="font-family:calibri\,calibri_embeddedfont\,calibri_msfontservice\,sans-serif\; font-size:11pt">&nbsp\;</span></p>\n</div>\n\n<div>\n<ul>\n	<li>\n	<p><span style="font-family:calibri\,calibri_embeddedfont\,calibri_msfontservice\,sans-serif\; font-size:11pt">Time: 3:00pm-4:00pm</span><span style="font-family:calibri\,calibri_embeddedfont\,calibri_msfontservice\,sans-serif\; font-size:11pt">&nbsp\;</span></p>\n	</li>\n	<li>\n	<p><span style="font-family:calibri\,calibri_embeddedfont\,calibri_msfontservice\,sans-serif\; font-size:11pt">Location: Flag Entrance</span><span style="font-family:calibri\,calibri_embeddedfont\,calibri_msfontservice\,sans-serif\; font-size:11pt">&nbsp\;</span></p>\n	</li>\n	<li>\n	<p><span style="font-family:calibri\,calibri_embeddedfont\,calibri_msfontservice\,sans-serif\; font-size:11pt">Description: Artists selected to participate in the art competition check in and are directed to their designated spaces in Downtown. They must submit any required paperwork at this time.</span><span style="font-family:calibri\,calibri_embeddedfont\,calibri_msfontservice\,sans-serif\; font-size:11pt">&nbsp\;</span></p>\n	</li>\n</ul>\n</div>\n\n<div>\n<p><span style="font-family:calibri\,calibri_embeddedfont\,calibri_msfontservice\,sans-serif\; font-size:11pt">Art Competition:</span><span style="font-family:calibri\,calibri_embeddedfont\,calibri_msfontservice\,sans-serif\; font-size:11pt">&nbsp\;</span></p>\n</div>\n</div>\n\n<div>\n<div>\n<ul>\n	<li>\n	<p><span style="font-family:calibri\,calibri_embeddedfont\,calibri_msfontservice\,sans-serif\; font-size:11pt">Time: 4:00pm-7:00pm</span><span style="font-family:calibri\,calibri_embeddedfont\,calibri_msfontservice\,sans-serif\; font-size:11pt">&nbsp\;</span></p>\n	</li>\n	<li>\n	<p><span style="font-family:calibri\,calibri_embeddedfont\,calibri_msfontservice\,sans-serif\; font-size:11pt">Location: Downtown</span><span style="font-family:calibri\,calibri_embeddedfont\,calibri_msfontservice\,sans-serif\; font-size:11pt">&nbsp\;</span></p>\n	</li>\n	<li>\n	<p><span style="font-family:calibri\,calibri_embeddedfont\,calibri_msfontservice\,sans-serif\; font-size:11pt">Description: Registered artists create Caribbean-themed street chalk artwork throughout Downtown. There are different age categories: Pro (18+ years old)\, Youth (10-17 years old)\, and Junior (4-9 years old).</span><span style="font-family:calibri\,calibri_embeddedfont\,calibri_msfontservice\,sans-serif\; font-size:11pt">&nbsp\;</span></p>\n	</li>\n</ul>\n</div>\n\n<div>\n<p><span style="font-family:calibri\,calibri_embeddedfont\,calibri_msfontservice\,sans-serif\; font-size:11pt">Arts &amp\; Crafts Vendors:</span><span style="font-family:calibri\,calibri_embeddedfont\,calibri_msfontservice\,sans-serif\; font-size:11pt">&nbsp\;</span></p>\n</div>\n\n<div>\n<ul>\n	<li>\n	<p><span style="font-family:calibri\,calibri_embeddedfont\,calibri_msfontservice\,sans-serif\; font-size:11pt">Time: 4:00pm-9:00pm</span><span style="font-family:calibri\,calibri_embeddedfont\,calibri_msfontservice\,sans-serif\; font-size:11pt">&nbsp\;</span></p>\n	</li>\n</ul>\n</div>\n</div>\n\n<div>\n<div>\n<ul>\n	<li>\n	<p><span style="font-family:calibri\,calibri_embeddedfont\,calibri_msfontservice\,sans-serif\; font-size:11pt">Location: Downtown</span><span style="font-family:calibri\,calibri_embeddedfont\,calibri_msfontservice\,sans-serif\; font-size:11pt">&nbsp\;</span></p>\n	</li>\n	<li>\n	<p><span style="font-family:calibri\,calibri_embeddedfont\,calibri_msfontservice\,sans-serif\; font-size:11pt">Description: Various arts and crafts vendors set up their stalls throughout Downtown\, offering their creative products.</span><span style="font-family:calibri\,calibri_embeddedfont\,calibri_msfontservice\,sans-serif\; font-size:11pt">&nbsp\;</span></p>\n	</li>\n</ul>\n</div>\n\n<div>\n<p><span style="font-family:calibri\,calibri_embeddedfont\,calibri_msfontservice\,sans-serif\; font-size:11pt">TBD Stilt Walkers:</span><span style="font-family:calibri\,calibri_embeddedfont\,calibri_msfontservice\,sans-serif\; font-size:11pt">&nbsp\;</span></p>\n</div>\n\n<div>\n<ul>\n	<li>\n	<p><span style="font-family:calibri\,calibri_embeddedfont\,calibri_msfontservice\,sans-serif\; font-size:11pt">Time: 5:00pm-8:00pm</span><span style="font-family:calibri\,calibri_embeddedfont\,calibri_msfontservice\,sans-serif\; font-size:11pt">&nbsp\;</span></p>\n	</li>\n	<li>\n	<p><span style="font-family:calibri\,calibri_embeddedfont\,calibri_msfontservice\,sans-serif\; font-size:11pt">Location: Downtown</span><span style="font-family:calibri\,calibri_embeddedfont\,calibri_msfontservice\,sans-serif\; font-size:11pt">&nbsp\;</span></p>\n	</li>\n</ul>\n</div>\n</div>\n\n<div>\n<div>\n<ul>\n	<li>\n	<p><span style="font-family:calibri\,calibri_embeddedfont\,calibri_msfontservice\,sans-serif\; font-size:11pt">Description: Caribbean-style stilt walkers entertain attendees as they roam through Downtown.</span><span style="font-family:calibri\,calibri_embeddedfont\,calibri_msfontservice\,sans-serif\; font-size:11pt">&nbsp\;</span></p>\n	</li>\n</ul>\n</div>\n\n<div>\n<p><span style="font-family:calibri\,calibri_embeddedfont\,calibri_msfontservice\,sans-serif\; font-size:11pt">TBD Drum Clinic:</span><span style="font-family:calibri\,calibri_embeddedfont\,calibri_msfontservice\,sans-serif\; font-size:11pt">&nbsp\;</span></p>\n</div>\n\n<div>\n<ul>\n	<li>\n	<p><span style="font-family:calibri\,calibri_embeddedfont\,calibri_msfontservice\,sans-serif\; font-size:11pt">Time: 5:00pm-8:00pm</span><span style="font-family:calibri\,calibri_embeddedfont\,calibri_msfontservice\,sans-serif\; font-size:11pt">&nbsp\;</span></p>\n	</li>\n	<li>\n	<p><span style="font-family:calibri\,calibri_embeddedfont\,calibri_msfontservice\,sans-serif\; font-size:11pt">Location: Cinnabon/Rum Island nook</span><span style="font-family:calibri\,calibri_embeddedfont\,calibri_msfontservice\,sans-serif\; font-size:11pt">&nbsp\;</span></p>\n	</li>\n	<li>\n	<p><span style="font-family:calibri\,calibri_embeddedfont\,calibri_msfontservice\,sans-serif\; font-size:11pt">Description: Drum clinic registration begins at 5:00pm. Each 20-minute session can accommodate up to 12 registrants. Participants will learn Afro-Cuban rhythm from an instructor.</span><span style="font-family:calibri\,calibri_embeddedfont\,calibri_msfontservice\,sans-serif\; font-size:11pt">&nbsp\;</span></p>\n	</li>\n</ul>\n</div>\n</div>\n\n<div>\n<div>\n<p><span style="font-family:calibri\,calibri_embeddedfont\,calibri_msfontservice\,sans-serif\; font-size:11pt">Arts &amp\; Crafts Vendors:</span><span style="font-family:calibri\,calibri_embeddedfont\,calibri_msfontservice\,sans-serif\; font-size:11pt">&nbsp\;</span></p>\n</div>\n\n<div>\n<ul>\n	<li>\n	<p><span style="font-family:calibri\,calibri_embeddedfont\,calibri_msfontservice\,sans-serif\; font-size:11pt">Time: 4:00pm-9:00pm</span><span style="font-family:calibri\,calibri_embeddedfont\,calibri_msfontservice\,sans-serif\; font-size:11pt">&nbsp\;</span></p>\n	</li>\n	<li>\n	<p><span style="font-family:calibri\,calibri_embeddedfont\,calibri_msfontservice\,sans-serif\; font-size:11pt">Location: Downtown</span><span style="font-family:calibri\,calibri_embeddedfont\,calibri_msfontservice\,sans-serif\; font-size:11pt">&nbsp\;</span></p>\n	</li>\n	<li>\n	<p><span style="font-family:calibri\,calibri_embeddedfont\,calibri_msfontservice\,sans-serif\; font-size:11pt">Description: Arts and crafts vendors continue to showcase and sell their products throughout Downtown.</span><span style="font-family:calibri\,calibri_embeddedfont\,calibri_msfontservice\,sans-serif\; font-size:11pt">&nbsp\;</span></p>\n	</li>\n</ul>\n</div>\n\n<div>\n<p><span style="font-family:calibri\,calibri_embeddedfont\,calibri_msfontservice\,sans-serif\; font-size:11pt">Art Competition Judging:</span><span style="font-family:calibri\,calibri_embeddedfont\,calibri_msfontservice\,sans-serif\; font-size:11pt">&nbsp\;</span></p>\n</div>\n</div>\n\n<div>\n<div>\n<ul>\n	<li>\n	<p><span style="font-family:calibri\,calibri_embeddedfont\,calibri_msfontservice\,sans-serif\; font-size:11pt">Time: 7:00pm-8:00pm</span><span style="font-family:calibri\,calibri_embeddedfont\,calibri_msfontservice\,sans-serif\; font-size:11pt">&nbsp\;</span></p>\n	</li>\n	<li>\n	<p><span style="font-family:calibri\,calibri_embeddedfont\,calibri_msfontservice\,sans-serif\; font-size:11pt">Location: Downtown</span><span style="font-family:calibri\,calibri_embeddedfont\,calibri_msfontservice\,sans-serif\; font-size:11pt">&nbsp\;</span></p>\n	</li>\n	<li>\n	<p><span style="font-family:calibri\,calibri_embeddedfont\,calibri_msfontservice\,sans-serif\; font-size:11pt">Description: A panel of judges evaluates the art competition entries to determine the 1st\, 2nd\, and 3rd place winners in each age category.</span><span style="font-family:calibri\,calibri_embeddedfont\,calibri_msfontservice\,sans-serif\; font-size:11pt">&nbsp\;</span></p>\n	</li>\n</ul>\n</div>\n\n<div>\n<p><span style="font-family:calibri\,calibri_embeddedfont\,calibri_msfontservice\,sans-serif\; font-size:11pt">Art Competition Awards:</span><span style="font-family:calibri\,calibri_embeddedfont\,calibri_msfontservice\,sans-serif\; font-size:11pt">&nbsp\;</span></p>\n</div>\n\n<div>\n<ul>\n	<li>\n	<p><span style="font-family:calibri\,calibri_embeddedfont\,calibri_msfontservice\,sans-serif\; font-size:11pt">Time: 8:00pm-until</span><span style="font-family:calibri\,calibri_embeddedfont\,calibri_msfontservice\,sans-serif\; font-size:11pt">&nbsp\;</span></p>\n	</li>\n</ul>\n</div>\n</div>\n\n<div>\n<div>\n<ul>\n	<li>\n	<p><span style="font-family:calibri\,calibri_embeddedfont\,calibri_msfontservice\,sans-serif\; font-size:11pt">Location: Island Stage</span><span style="font-family:calibri\,calibri_embeddedfont\,calibri_msfontservice\,sans-serif\; font-size:11pt">&nbsp\;</span></p>\n	</li>\n	<li>\n	<p><span style="font-family:calibri\,calibri_embeddedfont\,calibri_msfontservice\,sans-serif\; font-size:11pt">Description: The winners of the art competition are announced and awarded cash prizes. The prize amounts vary based on the age categories: Pro\, Youth\, and Junior.</span><span style="font-family:calibri\,calibri_embeddedfont\,calibri_msfontservice\,sans-serif\; font-size:11pt">&nbsp\;</span></p>\n	</li>\n</ul>\n</div>\n\n<div>\n<p><strong>Art Competition Prizes</strong><span style="font-family:calibri\,calibri_embeddedfont\,calibri_msfontservice\,sans-serif\; font-size:11pt">&nbsp\;</span></p>\n</div>\n\n<div>\n<p><span style="font-family:calibri\,calibri_embeddedfont\,calibri_msfontservice\,sans-serif\; font-size:11pt">Pro Category:</span><span style="font-family:calibri\,calibri_embeddedfont\,calibri_msfontservice\,sans-serif\; font-size:11pt">&nbsp\;</span></p>\n</div>\n\n<div>\n<ul>\n	<li>\n	<p><span style="font-family:calibri\,calibri_embeddedfont\,calibri_msfontservice\,sans-serif\; font-size:11pt">1st Place: $500 cash</span><span style="font-family:calibri\,calibri_embeddedfont\,calibri_msfontservice\,sans-serif\; font-size:11pt">&nbsp\;</span></p>\n	</li>\n</ul>\n</div>\n</div>\n\n<div>\n<div>\n<ul>\n	<li>\n	<p><span style="font-family:calibri\,calibri_embeddedfont\,calibri_msfontservice\,sans-serif\; font-size:11pt">2nd Place: $400 cash</span><span style="font-family:calibri\,calibri_embeddedfont\,calibri_msfontservice\,sans-serif\; font-size:11pt">&nbsp\;</span></p>\n	</li>\n	<li>\n	<p><span style="font-family:calibri\,calibri_embeddedfont\,calibri_msfontservice\,sans-serif\; font-size:11pt">3rd Place: $300 cash</span><span style="font-family:calibri\,calibri_embeddedfont\,calibri_msfontservice\,sans-serif\; font-size:11pt">&nbsp\;</span></p>\n	</li>\n</ul>\n</div>\n\n<div>\n<p><span style="font-family:calibri\,calibri_embeddedfont\,calibri_msfontservice\,sans-serif\; font-size:11pt">Youth Category:</span><span style="font-family:calibri\,calibri_embeddedfont\,calibri_msfontservice\,sans-serif\; font-size:11pt">&nbsp\;</span></p>\n</div>\n\n<div>\n<ul>\n	<li>\n	<p><span style="font-family:calibri\,calibri_embeddedfont\,calibri_msfontservice\,sans-serif\; font-size:11pt">1st Place: $300 cash</span><span style="font-family:calibri\,calibri_embeddedfont\,calibri_msfontservice\,sans-serif\; font-size:11pt">&nbsp\;</span></p>\n	</li>\n	<li>\n	<p><span style="font-family:calibri\,calibri_embeddedfont\,calibri_msfontservice\,sans-serif\; font-size:11pt">2nd Place: $200 cash</span><span style="font-family:calibri\,calibri_embeddedfont\,calibri_msfontservice\,sans-serif\; font-size:11pt">&nbsp\;</span></p>\n	</li>\n</ul>\n</div>\n</div>\n\n<div>\n<div>\n<ul>\n	<li>\n	<p><span style="font-family:calibri\,calibri_embeddedfont\,calibri_msfontservice\,sans-serif\; font-size:11pt">3rd Place: $100 cash</span><span style="font-family:calibri\,calibri_embeddedfont\,calibri_msfontservice\,sans-serif\; font-size:11pt">&nbsp\;</span></p>\n	</li>\n</ul>\n</div>\n\n<div>\n<p><span style="font-family:calibri\,calibri_embeddedfont\,calibri_msfontservice\,sans-serif\; font-size:11pt">Junior Category:</span><span style="font-family:calibri\,calibri_embeddedfont\,calibri_msfontservice\,sans-serif\; font-size:11pt">&nbsp\;</span></p>\n</div>\n\n<div>\n<ul>\n	<li>\n	<p><span style="font-family:calibri\,calibri_embeddedfont\,calibri_msfontservice\,sans-serif\; font-size:11pt">1st Place: $100 cash</span><span style="font-family:calibri\,calibri_embeddedfont\,calibri_msfontservice\,sans-serif\; font-size:11pt">&nbsp\;</span></p>\n	</li>\n	<li>\n	<p><span style="font-family:calibri\,calibri_embeddedfont\,calibri_msfontservice\,sans-serif\; font-size:11pt">2nd Place: $75 cash</span><span style="font-family:calibri\,calibri_embeddedfont\,calibri_msfontservice\,sans-serif\; font-size:11pt">&nbsp\;</span></p>\n	</li>\n	<li>\n	<p><span style="font-family:calibri\,calibri_embeddedfont\,calibri_msfontservice\,sans-serif\; font-size:11pt">3rd Place: $50 cash</span><span style="font-family:calibri\,calibri_embeddedfont\,calibri_msfontservice\,sans-serif\; font-size:11pt">&nbsp\;</span></p>\n	</li>\n</ul>\n</div>\n</div>\n</div>\n
LOCATION:Downtown OWA
UID:e.1304.27648
SEQUENCE:3
DTSTAMP:20260422T105001Z
URL:http://easternshorechamber-gzcms.preview.gochambermaster.com/events/details/caribbean-day-07-22-2023-27648
END:VEVENT

END:VCALENDAR
