BEGIN:VCALENDAR
VERSION:2.0
PRODID:-//ChamberMaster//Event Calendar 2.0//EN
METHOD:PUBLISH
X-PUBLISHED-TTL:P3D
REFRESH-INTERVAL:P3D
CALSCALE:GREGORIAN
BEGIN:VEVENT
DTSTART:20231005T220000Z
DTEND:20231006T000000Z
X-MICROSOFT-CDO-ALLDAYEVENT:FALSE
SUMMARY:Business After Hours October 2023 - M & M Bank
DESCRIPTION:Business After Hours at Merchants & Marine Bank in Daphne
X-ALT-DESC;FMTTYPE=text/html:Business After Hours at Merchants &amp\; Marine Bank in Daphne
LOCATION:Merchants & Marine Bank 27765 US Hwy 98 Daphne\, AL 36526
UID:e.1304.26584
SEQUENCE:3
DTSTAMP:20260421T223419Z
URL:http://easternshorechamber-gzcms.preview.gochambermaster.com/events/details/business-after-hours-october-2023-m-m-bank-26584
END:VEVENT

END:VCALENDAR
