BEGIN:VCALENDAR
VERSION:2.0
PRODID:-//ChamberMaster//Event Calendar 2.0//EN
METHOD:PUBLISH
X-PUBLISHED-TTL:P3D
REFRESH-INTERVAL:P3D
CALSCALE:GREGORIAN
BEGIN:VEVENT
DTSTART:20240505T180000Z
DTEND:20240505T220000Z
X-MICROSOFT-CDO-ALLDAYEVENT:FALSE
SUMMARY:Brunch & Rally
DESCRIPTION:Do you like Brunch & Pickleball? Enjoy $10 open play on the 1st & 3rd Sundays from 1-5pm! Get $3 off your fee when you dine at Waffles R Wild before playing! Simply show your Waffles R Wild receipt at the entrance and enjoy $3 off your $10 Open Play admission fee. \n\n\n\nLimited time offer. Offer valid only on Open Play Sundays at Brunch & Rally. Offer only for non-members. Members are FREE.\n\n\n\nLearn more here: https://app.courtreserve.com/Online/News/Details/11404?newsId=7af584dd-b802-4f3a-ba30-52c0e742f794.
X-ALT-DESC;FMTTYPE=text/html:Do you like Brunch &amp\; Pickleball? Enjoy $10 open play on the 1st &amp\; 3rd Sundays from 1-5pm! Get $3 off your fee when you dine at Waffles R Wild before playing! Simply show your Waffles R Wild receipt at the entrance and enjoy $3 off your $10 Open Play admission fee.&nbsp\;<br />\n<br />\nLimited time offer. Offer valid only on Open Play Sundays at Brunch &amp\; Rally. Offer only for non-members. Members are FREE.<br />\n<br />\nLearn more here: <a href="https://app.courtreserve.com/Online/News/Details/11404?newsId=7af584dd-b802-4f3a-ba30-52c0e742f794">https://app.courtreserve.com/Online/News/Details/11404?newsId=7af584dd-b802-4f3a-ba30-52c0e742f794</a>.<br />\n&nbsp\;
LOCATION:Pickleball @ OWA
UID:e.1304.31360
SEQUENCE:3
DTSTAMP:20260420T070530Z
URL:http://easternshorechamber-gzcms.preview.gochambermaster.com/events/details/brunch-rally-05-05-2024-31360
END:VEVENT

END:VCALENDAR
