BEGIN:VCALENDAR
VERSION:2.0
PRODID:-//ChamberMaster//Event Calendar 2.0//EN
METHOD:PUBLISH
X-PUBLISHED-TTL:P3D
REFRESH-INTERVAL:P3D
CALSCALE:GREGORIAN
BEGIN:VEVENT
DTSTART:20230513T210000Z
DTEND:20230514T000000Z
X-MICROSOFT-CDO-ALLDAYEVENT:FALSE
SUMMARY:Boil on the Bay
DESCRIPTION:The Baldwin Bengals (Official LSU Alumni Association serving Baldwin and Mobile County Alabama) are pleased to announce the 2023 Boil on the Bay - Tails\, Tunes & Tailgating! All are welcome! Please wear your school colors! Tailgate tents are allowed! Cash bar! Live music by Rondale and the Kit Kats! Sponsored by Another Broken Egg\, Cajun Boil0N-Geaux\, Cardiology Associates\, Nautilus Audiology\, ServPro\, Mandina's Restaurant\, and Riviera Pools.
X-ALT-DESC;FMTTYPE=text/html:The Baldwin Bengals (Official LSU Alumni Association serving Baldwin and Mobile County Alabama) are pleased to announce the 2023 Boil on the Bay - Tails\, Tunes &amp\; Tailgating! All are welcome! Please wear your school colors! Tailgate tents are allowed! Cash bar! Live music by Rondale and the Kit Kats! Sponsored by Another Broken Egg\, Cajun Boil0N-Geaux\, Cardiology Associates\, Nautilus Audiology\, ServPro\, Mandina&#39\;s Restaurant\, and Riviera Pools.
LOCATION:American Legion Tiki Bar\, Mobile Street\, Fairhope\, AL
UID:e.1304.27535
SEQUENCE:3
DTSTAMP:20260423T042021Z
URL:http://easternshorechamber-gzcms.preview.gochambermaster.com/events/details/boil-on-the-bay-27535
END:VEVENT

END:VCALENDAR
