BEGIN:VCALENDAR
VERSION:2.0
PRODID:-//ChamberMaster//Event Calendar 2.0//EN
METHOD:PUBLISH
X-PUBLISHED-TTL:P3D
REFRESH-INTERVAL:P3D
CALSCALE:GREGORIAN
BEGIN:VEVENT
DTSTART:20231012T160000Z
DTEND:20231012T170000Z
X-MICROSOFT-CDO-ALLDAYEVENT:FALSE
SUMMARY:Baldwin Bone & Joint Lunch and Learn
DESCRIPTION:From physical therapy and mindfulness activities to medication and lifestyle changes\, there are many ways to help safely reduce pain levels and improve overall functioning. The public is invited to learn more by attending one of two complimentary lunch and learn events in Baldwin County featuring Dr. Elliott Pennington\, fellowship-trained pain management specialist with the Baldwin Bone & Joint orthopaedic team. Dr. Pennington will speak on\, "Understanding Chronic Pain   Offering Hope Through Relief and Management Tools." Thursday\, October 12 (11 am   12 noon) Spanish Fort Senior Center 7361 Spanish Fort Blvd - Spanish Fort RSVP by 10/9 at Senior Center Bulletin Board Thursday\, October 26 (10-11 am) Daphne Senior Center 2605 US Hwy 98 - Daphne RSVP by 10/23: 251.620.2400
X-ALT-DESC;FMTTYPE=text/html:From physical therapy and mindfulness activities to medication and lifestyle changes\, there are many ways to help safely reduce pain levels and improve overall functioning. The public is invited to learn more by attending one of two complimentary lunch and learn events in Baldwin County featuring Dr. Elliott Pennington\, fellowship-trained pain management specialist with the Baldwin Bone &amp\; Joint orthopaedic team. Dr. Pennington will speak on\, &ldquo\;Understanding Chronic Pain &ndash\; Offering Hope Through Relief and Management Tools.&rdquo\; Thursday\, October 12 (11 am &ndash\; 12 noon) Spanish Fort Senior Center 7361 Spanish Fort Blvd - Spanish Fort RSVP by 10/9 at Senior Center Bulletin Board Thursday\, October 26 (10-11 am) Daphne Senior Center 2605 US Hwy 98 - Daphne RSVP by 10/23: 251.620.2400
LOCATION:Thursday\, October 12 (11 am 12 noon) Spanish Fort Senior Center 7361 Spanish Fort Blvd - Spanish Fort RSVP by 10/9 at Senior Center Bulletin Board
UID:e.1304.28081
SEQUENCE:3
DTSTAMP:20260422T000824Z
URL:http://easternshorechamber-gzcms.preview.gochambermaster.com/events/details/baldwin-bone-joint-lunch-and-learn-10-12-2023-28081
END:VEVENT

END:VCALENDAR
