BEGIN:VCALENDAR
VERSION:2.0
PRODID:-//ChamberMaster//Event Calendar 2.0//EN
METHOD:PUBLISH
X-PUBLISHED-TTL:P3D
REFRESH-INTERVAL:P3D
CALSCALE:GREGORIAN
BEGIN:VEVENT
DTSTART:20240511T200000Z
DTEND:20240511T220000Z
X-MICROSOFT-CDO-ALLDAYEVENT:FALSE
SUMMARY:All Shades of Rosé Wine Educational Series
DESCRIPTION:Join us as we drink everything pink. This immersive wine experience will walk us through four different expressions of our favorite summer ros s. We will start with Bubbles in Alsace\, then compare two styles of Provence ros \, and finish off with a savory ros  by Division Winery. 1st Wine Lucien Albrecht "Cremant d' Alsace" Pinot Noir Alsace\, France NV Tasting Notes: Green Apple / Lime / Pear Pairing: Brioche / Apple   yuzu gelee / garlic flower 2nd Wine Chateau Annibals Blend Cotes de Provence\, France 2021 Tasting Notes: Raspberry / Strawberry / Soft Mineral Tones Pairing: Marinated tomato // stone fruit vinegar / hazelnut / goat cheese 3rd Wine Miraval Cotes de Provence\, France 2021 Tasting Notes: Rose / Currant / Lemon Pairing: Gulf Tuna Crudo / preserved lemon / oregano 4th Wine Division Gamay Noir Columbia Valley\, Washington 2021 Tasting Notes: Strawberry / Cherry / Watermelon Pairing: Whipped Labneh / compressed watermelon / sage
X-ALT-DESC;FMTTYPE=text/html:Join us as we drink everything pink. This immersive wine experience will walk us through four different expressions of our favorite summer ros&eacute\;s. We will start with Bubbles in Alsace\, then compare two styles of Provence ros&eacute\;\, and finish off with a savory ros&eacute\; by Division Winery. 1st Wine Lucien Albrecht &ldquo\;Cremant d&rsquo\; Alsace&rdquo\; Pinot Noir Alsace\, France NV Tasting Notes: Green Apple / Lime / Pear Pairing: Brioche / Apple &ndash\; yuzu gelee / garlic flower 2nd Wine Chateau Annibals Blend Cotes de Provence\, France 2021 Tasting Notes: Raspberry / Strawberry / Soft Mineral Tones Pairing: Marinated tomato // stone fruit vinegar / hazelnut / goat cheese 3rd Wine Miraval Cotes de Provence\, France 2021 Tasting Notes: Rose / Currant / Lemon Pairing: Gulf Tuna Crudo / preserved lemon / oregano 4th Wine Division Gamay Noir Columbia Valley\, Washington 2021 Tasting Notes: Strawberry / Cherry / Watermelon Pairing: Whipped Labneh / compressed watermelon / sage
LOCATION:The Barn at The Hope Farm
UID:e.1304.31329
SEQUENCE:3
DTSTAMP:20260420T054358Z
URL:http://easternshorechamber-gzcms.preview.gochambermaster.com/events/details/all-shades-of-ros&#233;-wine-educational-series-31329
END:VEVENT

END:VCALENDAR
