BEGIN:VCALENDAR
VERSION:2.0
PRODID:-//ChamberMaster//Event Calendar 2.0//EN
METHOD:PUBLISH
X-PUBLISHED-TTL:P3D
REFRESH-INTERVAL:P3D
CALSCALE:GREGORIAN
BEGIN:VEVENT
DTSTART:20220723T161500Z
DTEND:20220723T191500Z
X-MICROSOFT-CDO-ALLDAYEVENT:FALSE
SUMMARY:Alabama 4H Science School Wildlife Programs
DESCRIPTION:These demonstrations allow children and adults to experience and learn about a collection of Alabama's native species of raptors and reptiles through a conversation-based presentation. These engaging educational programs provide hands-on learning for guests of all ages!
X-ALT-DESC;FMTTYPE=text/html:These demonstrations allow children and adults to experience and learn about a collection of Alabama&rsquo\;s native species of raptors and reptiles through a conversation-based presentation. These engaging educational programs provide hands-on learning for guests of all ages!
LOCATION:Historic Blakeley State Park
UID:e.1304.25776
SEQUENCE:3
DTSTAMP:20260424T233349Z
URL:http://easternshorechamber-gzcms.preview.gochambermaster.com/events/details/alabama-4h-science-school-wildlife-programs-25776
END:VEVENT

END:VCALENDAR
