BEGIN:VCALENDAR
VERSION:2.0
PRODID:-//ChamberMaster//Event Calendar 2.0//EN
METHOD:PUBLISH
X-PUBLISHED-TTL:P3D
REFRESH-INTERVAL:P3D
CALSCALE:GREGORIAN
BEGIN:VEVENT
DTSTART:20221111T003000Z
DTEND:20221111T030000Z
X-MICROSOFT-CDO-ALLDAYEVENT:FALSE
SUMMARY:A Night To Sow
DESCRIPTION:A Night to Sow is a fundraising event to support youth of trauma. There will be music\, dinner and silent auction. Under His Wings is a residential home for girls of trauma providing counseling education and life skills essential to wholeness.
X-ALT-DESC;FMTTYPE=text/html:A Night to Sow is a fundraising event to support youth of trauma. There will be music\, dinner and silent auction. Under His Wings is a residential home for girls of trauma providing counseling education and life skills essential to wholeness.
LOCATION:Daphne Civic Center 2603 US-98 E Daphne\, AL
UID:e.1304.25896
SEQUENCE:3
DTSTAMP:20260424T065308Z
URL:http://easternshorechamber-gzcms.preview.gochambermaster.com/events/details/a-night-to-sow-25896
END:VEVENT

END:VCALENDAR
