BEGIN:VCALENDAR
VERSION:2.0
PRODID:-//ChamberMaster//Event Calendar 2.0//EN
METHOD:PUBLISH
X-PUBLISHED-TTL:P3D
REFRESH-INTERVAL:P3D
CALSCALE:GREGORIAN
BEGIN:VEVENT
DTSTART:20211021T190000Z
DTEND:20211022T020000Z
X-MICROSOFT-CDO-ALLDAYEVENT:FALSE
SUMMARY:2nd Annual "A Night of Hope"
DESCRIPTION:In partnership with Daphne's Shoe Boutique\, Designer Claire Flowers\, Pamela Denham & Associates\, and Stokley Garden Express\, a special shopping event for breast cancer awareness month will be held. 20% of all sales from the event will benefit the Turner & Donna Ward's Hope 4110 Foundation. There will also be silent auction as well as light hors d'oeuvres and drinks\, and music provided by Catiwompus. Special guest Donna Ward will speak.
X-ALT-DESC;FMTTYPE=text/html:In partnership with Daphne&#39\;s Shoe Boutique\, Designer Claire Flowers\, Pamela Denham &amp\; Associates\, and Stokley Garden Express\, a special shopping event for breast cancer awareness month will be held. 20% of all sales from the event will benefit the Turner &amp\; Donna Ward&#39\;s Hope 4110 Foundation. There will also be silent auction as well as light hors d&#39\;oeuvres and drinks\, and music provided by Catiwompus. Special guest Donna Ward will speak.
LOCATION:Daphne's Shoe Boutique\, 818 Manci Avenue\, Daphne\, AL
UID:e.1304.22543
SEQUENCE:3
DTSTAMP:20260426T014211Z
URL:http://easternshorechamber-gzcms.preview.gochambermaster.com/events/details/2nd-annual-a-night-of-hope-22543
END:VEVENT

END:VCALENDAR
