BEGIN:VCALENDAR
VERSION:2.0
PRODID:-//ChamberMaster//Event Calendar 2.0//EN
METHOD:PUBLISH
X-PUBLISHED-TTL:P3D
REFRESH-INTERVAL:P3D
CALSCALE:GREGORIAN
BEGIN:VEVENT
DTSTART:20211014T210000Z
DTEND:20211014T233000Z
X-MICROSOFT-CDO-ALLDAYEVENT:FALSE
SUMMARY:12th Annual Food and Folly @ Home
DESCRIPTION:United Cerebral Palsy presents the 12th annual Food & Folly at Home presented by The Richardson Wealth Management Group. Thursday October 14th pick up your Dinner to go catered by Naman's between 4-6:30\, a signature wine or beer glass and choice of wine or craft beer. There will be a silent auction online with some fabulous items for auction. $45.00 per person\, $70 per couple. Children's meals offered as well. Contact ucpmobile.org for more information and tickets.
X-ALT-DESC;FMTTYPE=text/html:United Cerebral Palsy presents the 12th annual Food &amp\; Folly at Home presented by The Richardson Wealth Management Group. Thursday October 14th pick up your Dinner to go catered by Naman&#39\;s between 4-6:30\, a signature wine or beer glass and choice of wine or craft beer. There will be a silent auction online with some fabulous items for auction. $45.00 per person\, $70 per couple. Children&#39\;s meals offered as well. Contact ucpmobile.org for more information and tickets.
LOCATION:3058 Dauphin Square Connector Mobile\, AL 36607 -
UID:e.1304.22489
SEQUENCE:3
DTSTAMP:20260426T014337Z
URL:http://easternshorechamber-gzcms.preview.gochambermaster.com/events/details/12th-annual-food-and-folly-home-22489
END:VEVENT

END:VCALENDAR
